BEGIN:VCALENDAR
VERSION:2.0
PRODID:-//wichitatreehouse.org - ECPv6.15.20//NONSGML v1.0//EN
CALSCALE:GREGORIAN
METHOD:PUBLISH
X-ORIGINAL-URL:https://www.wichitatreehouse.org
X-WR-CALDESC:Events for wichitatreehouse.org
REFRESH-INTERVAL;VALUE=DURATION:PT1H
X-Robots-Tag:noindex
X-PUBLISHED-TTL:PT1H
BEGIN:VTIMEZONE
TZID:UTC
BEGIN:STANDARD
TZOFFSETFROM:+0000
TZOFFSETTO:+0000
TZNAME:UTC
DTSTART:20220101T000000
END:STANDARD
END:VTIMEZONE
BEGIN:VEVENT
DTSTART;VALUE=DATE:20240919
DTEND;VALUE=DATE:20240920
DTSTAMP:20260425T171834
CREATED:20240418T215749Z
LAST-MODIFIED:20240418T215749Z
UID:1231-1726704000-1726790399@www.wichitatreehouse.org
SUMMARY:Bunco for Babies
DESCRIPTION:
URL:https://www.wichitatreehouse.org/event/bunco-for-babies/
LOCATION:Chicken & Pickle\, 1240 Webb Rd\, Wichita\, KS\, 67206\, United States
CATEGORIES:Fundraiser
ORGANIZER;CN="Jaleen Claassen":MAILTO:jaleen@wichitatreehouse.org
END:VEVENT
BEGIN:VEVENT
DTSTART;VALUE=DATE:20240916
DTEND;VALUE=DATE:20241001
DTSTAMP:20260425T171834
CREATED:20240418T215901Z
LAST-MODIFIED:20240418T215901Z
UID:1233-1726444800-1727740799@www.wichitatreehouse.org
SUMMARY:Green Cup Event
DESCRIPTION:
URL:https://www.wichitatreehouse.org/event/green-cup-event/
LOCATION:Chicken & Pickle\, 1240 Webb Rd\, Wichita\, KS\, 67206\, United States
CATEGORIES:Fundraiser
ORGANIZER;CN="Jaleen Claassen":MAILTO:jaleen@wichitatreehouse.org
END:VEVENT
BEGIN:VEVENT
DTSTART;TZID=UTC:20240513T170000
DTEND;TZID=UTC:20240513T200000
DTSTAMP:20260425T171834
CREATED:20240418T215138Z
LAST-MODIFIED:20240418T215152Z
UID:1227-1715619600-1715630400@www.wichitatreehouse.org
SUMMARY:Pizza 4 A Cause - Give Back Night
DESCRIPTION:
URL:https://www.wichitatreehouse.org/event/pizza-4-a-cause-give-back-night/
LOCATION:Bob & Luigi’s (Andover Location)\, 325 W Central Ave\, Andover\, KS\, 67002\, United States
CATEGORIES:Fundraiser
ORGANIZER;CN="Jaleen Claassen":MAILTO:jaleen@wichitatreehouse.org
END:VEVENT
BEGIN:VEVENT
DTSTART;TZID=UTC:20240504T140000
DTEND;TZID=UTC:20240504T160000
DTSTAMP:20260425T171835
CREATED:20240418T220349Z
LAST-MODIFIED:20240418T220349Z
UID:1236-1714831200-1714838400@www.wichitatreehouse.org
SUMMARY:Kendra Scott - Kendra Gives Back Event
DESCRIPTION:
URL:https://www.wichitatreehouse.org/event/kendra-scott-kendra-gives-back-event/
LOCATION:Kendra Scott – Webb Rd\, 1423 N. Webb Road\, Suite 117 Wichita \, KS 67206\, Wichita\, KS\, United States
CATEGORIES:Fundraiser
ORGANIZER;CN="Jaleen Claassen":MAILTO:jaleen@wichitatreehouse.org
END:VEVENT
BEGIN:VEVENT
DTSTART;TZID=UTC:20240111T100000
DTEND;TZID=UTC:20240111T200000
DTSTAMP:20260425T171835
CREATED:20230828T171907Z
LAST-MODIFIED:20230828T172231Z
UID:1077-1704967200-1705003200@www.wichitatreehouse.org
SUMMARY:Jasons Deli X The Treehouse Fundraiser
DESCRIPTION:
URL:https://www.wichitatreehouse.org/event/jasons-deli-x-the-treehouse-fundraiser-2/
LOCATION:Jasons Deli
CATEGORIES:Fundraiser
ORGANIZER;CN="Jaleen Claassen":MAILTO:jaleen@wichitatreehouse.org
END:VEVENT
BEGIN:VEVENT
DTSTART;TZID=UTC:20231026T110000
DTEND;TZID=UTC:20231026T210000
DTSTAMP:20260425T171835
CREATED:20230829T144504Z
LAST-MODIFIED:20230829T144847Z
UID:1087-1698318000-1698354000@www.wichitatreehouse.org
SUMMARY:On The Border- East
DESCRIPTION:
URL:https://www.wichitatreehouse.org/event/on-the-border-east/
LOCATION:On The Border\, E. Rock Rd\, Wichita\, KS\, United States
CATEGORIES:Fundraiser
ORGANIZER;CN="Jaleen Claassen":MAILTO:jaleen@wichitatreehouse.org
END:VEVENT
BEGIN:VEVENT
DTSTART;TZID=UTC:20230919T180000
DTEND;TZID=UTC:20230919T200000
DTSTAMP:20260425T171835
CREATED:20230808T164830Z
LAST-MODIFIED:20230814T135932Z
UID:1043-1695146400-1695153600@www.wichitatreehouse.org
SUMMARY:Chicken & Pickle x The Treehouse Giveback Night
DESCRIPTION:10% of food & beverage purchases will be donated back
URL:https://www.wichitatreehouse.org/event/chicken-pickle-x-the-treehouse-giveback-night/
LOCATION:Chicken & Pickle\, 1240 Webb Rd\, Wichita\, KS\, 67206\, United States
CATEGORIES:Community Event,Fundraiser
ORGANIZER;CN="Jaleen Claassen":MAILTO:jaleen@wichitatreehouse.org
END:VEVENT
BEGIN:VEVENT
DTSTART;TZID=UTC:20230818T110000
DTEND;TZID=UTC:20230818T230000
DTSTAMP:20260425T171835
CREATED:20230808T143022Z
LAST-MODIFIED:20230808T143022Z
UID:1031-1692356400-1692399600@www.wichitatreehouse.org
SUMMARY:Grub & Give
DESCRIPTION:The Hill Bar and Grill is donating back to The Treehouse – you can help by eating! \nOn Friday\, August 18th The Hill Bar and Grill\, 4800 East Douglas Ave\, will donate 15% of Dine-In\, Takeout\, Delivery & Pick up orders to The Treehouse. Please help us by RSVPing to save the date and inviting a friend (or 2) to eat with you! RSVP & details here: www.groupraise.com/events/241509
URL:https://www.wichitatreehouse.org/event/grub-give/
LOCATION:The Hill Bar & Grill\, 4800 E Douglas Wichita\, KS 67208\, Wichita\, KS\, 66206-1842\, United States
CATEGORIES:Fundraiser
ORGANIZER;CN="Jaleen Claassen":MAILTO:jaleen@wichitatreehouse.org
END:VEVENT
BEGIN:VEVENT
DTSTART;TZID=UTC:20230530T103000
DTEND;TZID=UTC:20230530T223000
DTSTAMP:20260425T171835
CREATED:20230407T124452Z
LAST-MODIFIED:20230421T115641Z
UID:705-1685442600-1685485800@www.wichitatreehouse.org
SUMMARY:Community Program: CPR
DESCRIPTION:
URL:https://www.wichitatreehouse.org/event/community-program-cpr/
LOCATION:The Treehouse\, 151 N Volutsia Wichita\, KS 67214\, Wichita\, KS\, United States
CATEGORIES:Fundraiser
END:VEVENT
BEGIN:VEVENT
DTSTART;TZID=UTC:20230519T110000
DTEND;TZID=UTC:20230519T230000
DTSTAMP:20260425T171835
CREATED:20230404T082626Z
LAST-MODIFIED:20230421T115658Z
UID:492-1684494000-1684537200@www.wichitatreehouse.org
SUMMARY:Groupraise: The Hill
DESCRIPTION:
URL:https://www.wichitatreehouse.org/event/groupraise-the-hill/
LOCATION:The Hill Bar & Grill\, 4800 E Douglas Wichita\, KS 67208\, Wichita\, KS\, 66206-1842\, United States
CATEGORIES:Fundraiser
END:VEVENT
END:VCALENDAR