BEGIN:VCALENDAR
VERSION:2.0
PRODID:-//wichitatreehouse.org - ECPv6.15.20//NONSGML v1.0//EN
CALSCALE:GREGORIAN
METHOD:PUBLISH
X-WR-CALNAME:wichitatreehouse.org
X-ORIGINAL-URL:https://www.wichitatreehouse.org
X-WR-CALDESC:Events for wichitatreehouse.org
REFRESH-INTERVAL;VALUE=DURATION:PT1H
X-Robots-Tag:noindex
X-PUBLISHED-TTL:PT1H
BEGIN:VTIMEZONE
TZID:UTC
BEGIN:STANDARD
TZOFFSETFROM:+0000
TZOFFSETTO:+0000
TZNAME:UTC
DTSTART:20250101T000000
END:STANDARD
END:VTIMEZONE
BEGIN:VEVENT
DTSTART;TZID=UTC:20260612T180000
DTEND;TZID=UTC:20260612T210000
DTSTAMP:20260421T152740
CREATED:20240419T185015Z
LAST-MODIFIED:20260415T011549Z
UID:1239-1781287200-1781298000@www.wichitatreehouse.org
SUMMARY:Bingo for Babies
DESCRIPTION:Get ready for a fun-filled evening of bingo\, prizes\, and purpose at Bingo for Babies\, benefiting The Wichita Treehouse! Now in its third year\, this lively fundraiser supports local moms and babies with essential resources and programs that empower and uplift them. \nBring your friends\, enjoy delicious snacks and drinks\, and compete for exciting prizes—all while making a meaningful difference in the lives of families in our community. Every ticket supports The Treehouse’s mission to provide education\, supplies\, and support to moms in need. \nLet’s Play BINGO!\nJoin us for drinks\, dinner\, and BINGO! \n⌚ Doors open at 6 PM \n🍸 Cocktails from 6 – 6:30 PM \n🍽️ Dinner is served at 6:30 PM \n🤩 BINGO starts at 7 PM \n🎟️ Raffle winners chosen at 8:30 PM \n📍1000 N. 127th Street East\, Wichita\, KS 67206 \nBuy your tickets today! \n\nGet Tickets Now\n\n 
URL:https://www.wichitatreehouse.org/event/bingo-for-babies/
LOCATION:Crestview Country Club\, 1000 N 127th St E\, Wichita\, 67230\, United States
CATEGORIES:Fundraiser
ATTACH;FMTTYPE=image/png:https://www.wichitatreehouse.org/wp-content/uploads/2026/04/PNG-BFB-Logo.png
ORGANIZER;CN="Jaleen Claassen":MAILTO:jaleen@wichitatreehouse.org
END:VEVENT
END:VCALENDAR