BEGIN:VCALENDAR
VERSION:2.0
PRODID:-//wichitatreehouse.org - ECPv6.15.20//NONSGML v1.0//EN
CALSCALE:GREGORIAN
METHOD:PUBLISH
X-ORIGINAL-URL:https://www.wichitatreehouse.org
X-WR-CALDESC:Events for wichitatreehouse.org
REFRESH-INTERVAL;VALUE=DURATION:PT1H
X-Robots-Tag:noindex
X-PUBLISHED-TTL:PT1H
BEGIN:VTIMEZONE
TZID:UTC
BEGIN:STANDARD
TZOFFSETFROM:+0000
TZOFFSETTO:+0000
TZNAME:UTC
DTSTART:20220101T000000
END:STANDARD
END:VTIMEZONE
BEGIN:VEVENT
DTSTART;TZID=UTC:20230919T180000
DTEND;TZID=UTC:20230919T200000
DTSTAMP:20260425T141948
CREATED:20230808T164830Z
LAST-MODIFIED:20230814T135932Z
UID:1043-1695146400-1695153600@www.wichitatreehouse.org
SUMMARY:Chicken & Pickle x The Treehouse Giveback Night
DESCRIPTION:10% of food & beverage purchases will be donated back
URL:https://www.wichitatreehouse.org/event/chicken-pickle-x-the-treehouse-giveback-night/
LOCATION:Chicken & Pickle\, 1240 Webb Rd\, Wichita\, KS\, 67206\, United States
CATEGORIES:Community Event,Fundraiser
ORGANIZER;CN="Jaleen Claassen":MAILTO:jaleen@wichitatreehouse.org
END:VEVENT
BEGIN:VEVENT
DTSTART;TZID=UTC:20230914T100000
DTEND;TZID=UTC:20230914T200000
DTSTAMP:20260425T141948
CREATED:20230828T171632Z
LAST-MODIFIED:20230828T171632Z
UID:1073-1694685600-1694721600@www.wichitatreehouse.org
SUMMARY:Jasons Deli X The Treehouse Fundraiser
DESCRIPTION:
URL:https://www.wichitatreehouse.org/event/jasons-deli-x-the-treehouse-fundraiser/
LOCATION:Jasons Deli
ORGANIZER;CN="Jaleen Claassen":MAILTO:jaleen@wichitatreehouse.org
END:VEVENT
BEGIN:VEVENT
DTSTART;TZID=UTC:20230911T103000
DTEND;TZID=UTC:20231004T113000
DTSTAMP:20260425T141948
CREATED:20230828T172128Z
LAST-MODIFIED:20230828T172128Z
UID:1080-1694428200-1696419000@www.wichitatreehouse.org
SUMMARY:Mama y Yo
DESCRIPTION:
URL:https://www.wichitatreehouse.org/event/mama-y-yo/
LOCATION:The Treehouse\, 151 N Volutsia Wichita\, KS 67214\, Wichita\, KS\, United States
CATEGORIES:Classes For Moms
ORGANIZER;CN="Jaleen Claassen":MAILTO:jaleen@wichitatreehouse.org
END:VEVENT
BEGIN:VEVENT
DTSTART;TZID=UTC:20230907T160000
DTEND;TZID=UTC:20230907T180000
DTSTAMP:20260425T141948
CREATED:20230808T142817Z
LAST-MODIFIED:20230828T171419Z
UID:1028-1694102400-1694109600@www.wichitatreehouse.org
SUMMARY:Fall Open House
DESCRIPTION: 
URL:https://www.wichitatreehouse.org/event/fall-open-house/
LOCATION:The Treehouse\, 151 N Volutsia Wichita\, KS 67214\, Wichita\, KS\, United States
ORGANIZER;CN="Jaleen Claassen":MAILTO:jaleen@wichitatreehouse.org
END:VEVENT
BEGIN:VEVENT
DTSTART;TZID=UTC:20230907T100000
DTEND;TZID=UTC:20230907T140000
DTSTAMP:20260425T141948
CREATED:20230808T144434Z
LAST-MODIFIED:20230808T144611Z
UID:1035-1694080800-1694095200@www.wichitatreehouse.org
SUMMARY:Health and Wealth Day
DESCRIPTION:
URL:https://www.wichitatreehouse.org/event/the-treehouse-x-pizza-ranch-west/
LOCATION:The Treehouse\, 151 N Volutsia Wichita\, KS 67214\, Wichita\, KS\, United States
ORGANIZER;CN="Jaleen Claassen":MAILTO:jaleen@wichitatreehouse.org
END:VEVENT
BEGIN:VEVENT
DTSTART;TZID=UTC:20230906T103000
DTEND;TZID=UTC:20231115T113000
DTSTAMP:20260425T141948
CREATED:20230808T150230Z
LAST-MODIFIED:20230808T150230Z
UID:1041-1693996200-1700047800@www.wichitatreehouse.org
SUMMARY:Strengthening Families (Birth-3 years)  *court approved*
DESCRIPTION:The Strengthening Families Program (SFP) provides a path toward hope and healing for families. SFP is a nationally and internationally recognized evidence-based intervention. This class is court approved and meets Wednesdays starting September 6th- November 15th. Please call to register. \nGoals: \n\nStrengthen family relationships\nImprove mental health (parent & child)\nDecrease misbehavior (parent & child)
URL:https://www.wichitatreehouse.org/event/strengthening-families-birth-3-years-court-approved/
LOCATION:The Treehouse\, 151 N Volutsia Wichita\, KS 67214\, Wichita\, KS\, United States
ORGANIZER;CN="Jaleen Claassen":MAILTO:jaleen@wichitatreehouse.org
END:VEVENT
BEGIN:VEVENT
DTSTART;TZID=UTC:20230818T110000
DTEND;TZID=UTC:20230818T230000
DTSTAMP:20260425T141948
CREATED:20230808T143022Z
LAST-MODIFIED:20230808T143022Z
UID:1031-1692356400-1692399600@www.wichitatreehouse.org
SUMMARY:Grub & Give
DESCRIPTION:The Hill Bar and Grill is donating back to The Treehouse – you can help by eating! \nOn Friday\, August 18th The Hill Bar and Grill\, 4800 East Douglas Ave\, will donate 15% of Dine-In\, Takeout\, Delivery & Pick up orders to The Treehouse. Please help us by RSVPing to save the date and inviting a friend (or 2) to eat with you! RSVP & details here: www.groupraise.com/events/241509
URL:https://www.wichitatreehouse.org/event/grub-give/
LOCATION:The Hill Bar & Grill\, 4800 E Douglas Wichita\, KS 67208\, Wichita\, KS\, 66206-1842\, United States
CATEGORIES:Fundraiser
ORGANIZER;CN="Jaleen Claassen":MAILTO:jaleen@wichitatreehouse.org
END:VEVENT
BEGIN:VEVENT
DTSTART;TZID=UTC:20230601T153000
DTEND;TZID=UTC:20230601T173000
DTSTAMP:20260425T141948
CREATED:20230504T172135Z
LAST-MODIFIED:20230628T184849Z
UID:887-1685633400-1685640600@www.wichitatreehouse.org
SUMMARY:Summer Open House
DESCRIPTION:
URL:https://www.wichitatreehouse.org/event/summer-open-house/
LOCATION:The Treehouse\, 151 N Volutsia Wichita\, KS 67214\, Wichita\, KS\, United States
END:VEVENT
BEGIN:VEVENT
DTSTART;TZID=UTC:20230530T103000
DTEND;TZID=UTC:20230530T223000
DTSTAMP:20260425T141948
CREATED:20230407T124452Z
LAST-MODIFIED:20230421T115641Z
UID:705-1685442600-1685485800@www.wichitatreehouse.org
SUMMARY:Community Program: CPR
DESCRIPTION:
URL:https://www.wichitatreehouse.org/event/community-program-cpr/
LOCATION:The Treehouse\, 151 N Volutsia Wichita\, KS 67214\, Wichita\, KS\, United States
CATEGORIES:Fundraiser
END:VEVENT
BEGIN:VEVENT
DTSTART;TZID=UTC:20230519T110000
DTEND;TZID=UTC:20230519T230000
DTSTAMP:20260425T141948
CREATED:20230404T082626Z
LAST-MODIFIED:20230421T115658Z
UID:492-1684494000-1684537200@www.wichitatreehouse.org
SUMMARY:Groupraise: The Hill
DESCRIPTION:
URL:https://www.wichitatreehouse.org/event/groupraise-the-hill/
LOCATION:The Hill Bar & Grill\, 4800 E Douglas Wichita\, KS 67208\, Wichita\, KS\, 66206-1842\, United States
CATEGORIES:Fundraiser
END:VEVENT
BEGIN:VEVENT
DTSTART;TZID=UTC:20230428T110000
DTEND;TZID=UTC:20230428T230000
DTSTAMP:20260425T141948
CREATED:20230404T080434Z
LAST-MODIFIED:20230404T083110Z
UID:489-1682679600-1682722800@www.wichitatreehouse.org
SUMMARY:Fundraiser: 20 Years Gala
DESCRIPTION:
URL:https://www.wichitatreehouse.org/event/fundraiser-20-years-gala/
LOCATION:St. George Orthodox Church\, 7515 E 13th St N. - Wichita\, KS 67206\, Kansas\, United States
END:VEVENT
END:VCALENDAR